BEGIN:VCALENDAR
VERSION:2.0
PRODID:-//Omsana - ECPv5.12.3//NONSGML v1.0//EN
CALSCALE:GREGORIAN
METHOD:PUBLISH
X-WR-CALNAME:Omsana
X-ORIGINAL-URL:http://www.omsana.es
X-WR-CALDESC:Eventos para Omsana
BEGIN:VTIMEZONE
TZID:Europe/Madrid
BEGIN:DAYLIGHT
TZOFFSETFROM:+0100
TZOFFSETTO:+0200
TZNAME:CEST
DTSTART:20190331T010000
END:DAYLIGHT
BEGIN:STANDARD
TZOFFSETFROM:+0200
TZOFFSETTO:+0100
TZNAME:CET
DTSTART:20191027T010000
END:STANDARD
END:VTIMEZONE
BEGIN:VEVENT
DTSTART;TZID=Europe/Madrid:20191123T093000
DTEND;TZID=Europe/Madrid:20191123T140000
DTSTAMP:20260421T124129
CREATED:20191114T101957Z
LAST-MODIFIED:20191114T152106Z
UID:15880-1574501400-1574517600@www.omsana.es
SUMMARY:Taller Vivencial AROMATERAPIA y EMOCIONES
DESCRIPTION:[vc_row][vc_column][vc_column_text css_animation=»none»] \n\nNos introduciremos en el mundo de la Psico-aromaterapia para descubrir los beneficios de los aceites esenciales para la salud emocional.\nDescubriremos las propiedades y aplicaciones de los aceites esenciales más importantes para  cuidar las emociones a nivel familiar y laboral y lo haremos a través del AROMATHERAPY EMOTION PLAY¡¡\n¿Cómo influyen los aromas sobre nuestras emociones y pensamientos?\nCrearemos nuestra propia fórmula aromaterapéutica.\nRealizaremos una Meditación con AROMATERAPIA.\nMATERIAL NECESARIO: traer manta para el momento de la meditación.\nInscríbete en: Meredith 658 15 79 95  meredith@saltenglish.com\n\n[/vc_column_text][/vc_column][/vc_row]
URL:http://www.omsana.es/evento/taller-vivencial-aromaterapia-y-emociones/
LOCATION:SALT\, C/ACADEMIA\, LLEIDA\, España
CATEGORIES:aromaterapia,psico-aromaterapia
ATTACH;FMTTYPE=image/jpeg:http://www.omsana.es/wp-content/uploads/2016/05/PSICOAROMATERAPIA-DESTACADA.jpg
ORGANIZER;CN="Maribel%20S%C3%A1iz":MAILTO:maribel@omsana.es
END:VEVENT
END:VCALENDAR